BEGIN:VCALENDAR
VERSION:2.0
PRODID:-//Fundacion Ory - ECPv6.1.2.2//NONSGML v1.0//EN
CALSCALE:GREGORIAN
METHOD:PUBLISH
X-WR-CALNAME:Fundacion Ory
X-ORIGINAL-URL:https://fundacionory.com
X-WR-CALDESC:Eventos para Fundacion Ory
REFRESH-INTERVAL;VALUE=DURATION:PT1H
X-Robots-Tag:noindex
X-PUBLISHED-TTL:PT1H
BEGIN:VTIMEZONE
TZID:Europe/Madrid
BEGIN:DAYLIGHT
TZOFFSETFROM:+0100
TZOFFSETTO:+0200
TZNAME:CEST
DTSTART:20260329T010000
END:DAYLIGHT
BEGIN:STANDARD
TZOFFSETFROM:+0200
TZOFFSETTO:+0100
TZNAME:CET
DTSTART:20261025T010000
END:STANDARD
END:VTIMEZONE
BEGIN:VEVENT
DTSTART;TZID=Europe/Madrid:20260422T180000
DTEND;TZID=Europe/Madrid:20260422T200000
DTSTAMP:20260422T235902
CREATED:20260409T154751Z
LAST-MODIFIED:20260409T154931Z
UID:2965-1776880800-1776888000@fundacionory.com
SUMMARY:Conversación con Pedro Olalla en la Facultad de Filosofía y Letras
DESCRIPTION:Colaboramos en la conversación que se desarrollará en el Salón de Grados de la Facultad de Filosofía y Letras de la UCA entre Pedro Olalla y Marina Eiriz Zarazaga en torno a la reedición del libro Atlas mitológico de Grecia. Nueva versión -reestructurada\, actualizada y enriquecida- de la obra clásica de Pedro Olalla sobre la geografía de los mitos griegos. Esta obra monumental\, fruto de largos años de estudio y de investigación sobre el terreno\, toma como base toda la información mitológica conservada en los textos de más de cien autores de la Antigüedad para servirla\, compendiada y organizada\, sobre el territorio de la Grecia actual. Obra de referencia y base cartográfica de viaje al mismo tiempo\, este libro consigue\, de una manera inédita\, unir la fuerza evocadora de los antiguos mitos a la de los lugares del presente y a la de los preciados restos materiales del pasado que perviven aún entre nosotros.
URL:https://fundacionory.com/event/conversacion-con-pedro-olalla-en-la-facultad-de-filosofia-y-letras/
LOCATION:Facultad de Filosofia y Letras de la UCA\, Av. Dr. Gómez Ulla\, 1\, Cádiz\, Cádiz\, 11003\, España
ATTACH;FMTTYPE=image/webp:https://fundacionory.com/wp-content/uploads/2026/04/pedro-olalla.webp
END:VEVENT
BEGIN:VEVENT
DTSTART;TZID=Europe/Madrid:20260424T170000
DTEND;TZID=Europe/Madrid:20260425T230000
DTSTAMP:20260422T235902
CREATED:20260413T134646Z
LAST-MODIFIED:20260417T105658Z
UID:2973-1777050000-1777158000@fundacionory.com
SUMMARY:Edita Nómada por el cumpleaños de Carlos Edmundo de Ory
DESCRIPTION:Celebramos el 103 cumpleaños de Carlos Edmundo de Ory con una edición de EDITA Nómada\, el festival itinerante que se celebrará por primera vez en Cádiz.
URL:https://fundacionory.com/event/edita-nomada-por-el-cumpleanos-de-carlos-edmundo-de-ory/
LOCATION:Fundación Carlos Edmundo de Ory\, C. Ancha\, 16\, Cádiz\, Cádiz\, 11001\, España
ATTACH;FMTTYPE=image/jpeg:https://fundacionory.com/wp-content/uploads/2026/04/WhatsApp-Image-2026-04-16-at-21.05.49.jpeg
END:VEVENT
BEGIN:VEVENT
DTSTART;TZID=Europe/Madrid:20260429T190000
DTEND;TZID=Europe/Madrid:20260429T200000
DTSTAMP:20260422T235902
CREATED:20260413T135449Z
LAST-MODIFIED:20260413T135449Z
UID:2976-1777489200-1777492800@fundacionory.com
SUMMARY:Encuentro con Servando Rocha en torno a 'Este corazón que sangra'
DESCRIPTION:El Centro Andaluz de las Letras les invita a una nueva sesión del ciclo Encuentros en el Centro con la colaboración de la Fundación Carlos Edmundo de Ory. En esta ocasión\, el protagonista será Servando Rocha\, que acaba de publicar Este corazón que sangra (Alianza Editorial). Durante esta cita\, el autor conversará con el periodista y escritor Juan José Téllez. \nEl libro\, cuyo título completo es Este corazón que sangra. William S. Burroughs y Kiki en Tánger\, regresa al Tánger de los años 50\, época en la que el escritor estadounidense William S. Burroughs se trasladó a la ciudad marroquí y la usó como paisaje de su obra El almuerzo desnudo. Su relación apasionada con el joven Kiki se refleja en esta obra de Rocha\, que recorre las calles buscando fantasmas de la época para relatar la presencia de esas vivencias en la obra de Burroughs. En este periplo del escritor canario se ha ido topando con fotografías\, cartas y manuscritos inéditos que pueblan Este corazón que sangra. \nDe todo esto nos hablará Servando Rocha el próximo miércoles 29 de abril a partir de las 19.00 horas en la Fundación Ory (Calle Ancha\, 16) con entrada libre hasta completar aforo.
URL:https://fundacionory.com/event/encuentro-con-servando-rocha-en-torno-a-este-corazon-que-sangra/
LOCATION:Fundación Carlos Edmundo de Ory\, C. Ancha\, 16\, Cádiz\, Cádiz\, 11001\, España
ATTACH;FMTTYPE=image/jpeg:https://fundacionory.com/wp-content/uploads/2026/04/Este-corazon-que-sangra.jpg
END:VEVENT
END:VCALENDAR